BEGIN:VCALENDAR
VERSION:2.0
PRODID:-//Mossman Lab - ECPv6.15.18//NONSGML v1.0//EN
CALSCALE:GREGORIAN
METHOD:PUBLISH
X-WR-CALNAME:Mossman Lab
X-ORIGINAL-URL:https://sites.sandiego.edu/mossman
X-WR-CALDESC:Events for Mossman Lab
REFRESH-INTERVAL;VALUE=DURATION:PT1H
X-Robots-Tag:noindex
X-PUBLISHED-TTL:PT1H
BEGIN:VTIMEZONE
TZID:America/Los_Angeles
BEGIN:DAYLIGHT
TZOFFSETFROM:-0800
TZOFFSETTO:-0700
TZNAME:PDT
DTSTART:20200308T100000
END:DAYLIGHT
BEGIN:STANDARD
TZOFFSETFROM:-0700
TZOFFSETTO:-0800
TZNAME:PST
DTSTART:20201101T090000
END:STANDARD
BEGIN:DAYLIGHT
TZOFFSETFROM:-0800
TZOFFSETTO:-0700
TZNAME:PDT
DTSTART:20210314T100000
END:DAYLIGHT
BEGIN:STANDARD
TZOFFSETFROM:-0700
TZOFFSETTO:-0800
TZNAME:PST
DTSTART:20211107T090000
END:STANDARD
BEGIN:DAYLIGHT
TZOFFSETFROM:-0800
TZOFFSETTO:-0700
TZNAME:PDT
DTSTART:20220313T100000
END:DAYLIGHT
BEGIN:STANDARD
TZOFFSETFROM:-0700
TZOFFSETTO:-0800
TZNAME:PST
DTSTART:20221106T090000
END:STANDARD
END:VTIMEZONE
BEGIN:VEVENT
DTSTART;VALUE=DATE:20210823
DTEND;VALUE=DATE:20210828
DTSTAMP:20260421T033632
CREATED:20210531T185306Z
LAST-MODIFIED:20210531T185306Z
UID:263-1629676800-1630108799@sites.sandiego.edu
SUMMARY:Physics Summer Initiative (PSI)
DESCRIPTION:Physics and Biophysics majors and minors: Mark your calendars for this pre-semester community building experience! \nMore information to come as it becomes available.
URL:https://sites.sandiego.edu/mossman/event/physics-summer-initiative-psi/
END:VEVENT
BEGIN:VEVENT
DTSTART;VALUE=DATE:20210611
DTEND;VALUE=DATE:20210821
DTSTAMP:20260421T033632
CREATED:20210531T185030Z
LAST-MODIFIED:20210531T190501Z
UID:260-1623369600-1629503999@sites.sandiego.edu
SUMMARY:Coffee and Quantum - Summer Edition (see event for dates)
DESCRIPTION:Coffee and Quantum hour will continue through Summer 2021! \nAre you interested in learning more about experimental and/or quantum physics? Come enjoy a coffee and talk quantum with Professor Mossman! Learn about opportunities to work with custom electronics\, vacuum systems\, a wide variety of optical systems and setups\, and the coldest atoms you have ever heard of. \nDates/times for Summer 2021 (all Fridays @11:00 am): \n\nJune 11\nJune 25\nJuly 9\nJuly 23\nAug 6\nAug 20\n\nDue to the ongoing COVID-19 pandemic\, this social hour will be held outside of La Paloma on the USD campus. Come on by for an informal chat! Add all event dates to your Google Calendar by clicking below.
URL:https://sites.sandiego.edu/mossman/event/260/
LOCATION:La Paloma\, USD Campus
ORGANIZER;CN="M. Mossman":MAILTO:mmossman@sandiego.edu
END:VEVENT
BEGIN:VEVENT
DTSTART;TZID=America/Los_Angeles:20210503T121500
DTEND;TZID=America/Los_Angeles:20210503T131500
DTSTAMP:20260421T033632
CREATED:20210330T140558Z
LAST-MODIFIED:20210330T140558Z
UID:232-1620044100-1620047700@sites.sandiego.edu
SUMMARY:Coffee and Quantum
DESCRIPTION:Are you looking for research opportunities at USD in experimental physics? Come enjoy a coffee and talk quantum with Prof. Mossman! Opportunities include building and working with custom electronics\, vacuum systems\, lasers\, and a wide range of optical systems. \nDue to the ongoing COVID-19 pandemic\, the coffee hour will take place outside of La Paloma. \nIf you are unable to make this time and would like to discuss opportunities\, email Prof. Mossman to schedule a time that works with your schedule.
URL:https://sites.sandiego.edu/mossman/event/coffee-and-quantum-5/
LOCATION:La Paloma\, USD Campus
ORGANIZER;CN="M. Mossman":MAILTO:mmossman@sandiego.edu
END:VEVENT
BEGIN:VEVENT
DTSTART;TZID=America/Los_Angeles:20210419T121500
DTEND;TZID=America/Los_Angeles:20210419T131500
DTSTAMP:20260421T033632
CREATED:20210330T140441Z
LAST-MODIFIED:20210418T035626Z
UID:230-1618834500-1618838100@sites.sandiego.edu
SUMMARY:Coffee and Quantum
DESCRIPTION:CANCELLED \nPlease email Prof Mossman to talk. \nAre you looking for research opportunities at USD in experimental physics? Come enjoy a coffee and talk quantum with Prof. Mossman! Opportunities include building and working with custom electronics\, vacuum systems\, lasers\, and a wide range of optical systems. \nDue to the ongoing COVID-19 pandemic\, the coffee hour will take place outside of La Paloma. \nIf you are unable to make this time and would like to discuss opportunities\, email Prof. Mossman to schedule a time that works with your schedule.
URL:https://sites.sandiego.edu/mossman/event/coffee-and-quantum-4/
LOCATION:La Paloma\, USD Campus
ORGANIZER;CN="M. Mossman":MAILTO:mmossman@sandiego.edu
END:VEVENT
BEGIN:VEVENT
DTSTART;TZID=America/Los_Angeles:20210405T121500
DTEND;TZID=America/Los_Angeles:20210405T131500
DTSTAMP:20260421T033632
CREATED:20210330T140350Z
LAST-MODIFIED:20210330T140350Z
UID:228-1617624900-1617628500@sites.sandiego.edu
SUMMARY:Coffee and Quantum
DESCRIPTION:Are you looking for research opportunities at USD in experimental physics? Come enjoy a coffee and talk quantum with Prof. Mossman! Opportunities include building and working with custom electronics\, vacuum systems\, lasers\, and a wide range of optical systems. \nDue to the ongoing COVID-19 pandemic\, the coffee hour will take place outside of La Paloma. \nIf you are unable to make this time and would like to discuss opportunities\, email Prof. Mossman to schedule a time that works with your schedule.
URL:https://sites.sandiego.edu/mossman/event/coffee-and-quantum-3/
LOCATION:La Paloma\, USD Campus
ORGANIZER;CN="M. Mossman":MAILTO:mmossman@sandiego.edu
END:VEVENT
BEGIN:VEVENT
DTSTART;TZID=America/Los_Angeles:20210324T100000
DTEND;TZID=America/Los_Angeles:20210324T110000
DTSTAMP:20260421T033632
CREATED:20210301T200656Z
LAST-MODIFIED:20210301T200656Z
UID:225-1616580000-1616583600@sites.sandiego.edu
SUMMARY:ColdQuanta Webinar: The Atomic Approach to Quantum Computing
DESCRIPTION:From the ColdQuanta Webinar registration: \nAtomic qubits provide a highly scalable approach to quantum computing. Combining the same remarkable coherence properties found in atomic clocks with controllable Rydberg interactions and optical methods for cooling and trapping atoms we have all the ingredients needed for a high performance quantum processor. ColdQuanta’s Chief Scientist for Quantum Information Mark Saffman will explain the atomic approach to scalable quantum computing. \nTo register for the webinar\, click here.
URL:https://sites.sandiego.edu/mossman/event/coldquanta-webinar-the-atomic-approach-to-quantum-computing/
END:VEVENT
BEGIN:VEVENT
DTSTART;TZID=America/Los_Angeles:20210315T121500
DTEND;TZID=America/Los_Angeles:20210315T131500
DTSTAMP:20260421T033632
CREATED:20210228T022857Z
LAST-MODIFIED:20210228T022857Z
UID:217-1615810500-1615814100@sites.sandiego.edu
SUMMARY:Coffee and Quantum
DESCRIPTION:Are you looking for research opportunities at USD in experimental physics? Come enjoy a coffee and talk quantum with Prof. Mossman! Opportunities include building and working with custom electronics\, vacuum systems\, lasers\, and a wide range of optical systems. \nDue to the ongoing COVID-19 pandemic\, the coffee hour will take place outside of La Paloma.
URL:https://sites.sandiego.edu/mossman/event/coffee-and-quantum-2/
LOCATION:La Paloma\, USD Campus
CATEGORIES:Group Meetings/Events
ORGANIZER;CN="M. Mossman":MAILTO:mmossman@sandiego.edu
END:VEVENT
BEGIN:VEVENT
DTSTART;TZID=America/Los_Angeles:20210309T121500
DTEND;TZID=America/Los_Angeles:20210309T131500
DTSTAMP:20260421T033632
CREATED:20210202T173857Z
LAST-MODIFIED:20210228T023440Z
UID:183-1615292100-1615295700@sites.sandiego.edu
SUMMARY:Human Side of Science Speaker Series: Ana Aceves
DESCRIPTION:Please join us for our Spring Speaker Series: The Human Side of Science\, featuring a conversation with Ana Aceves. She will be visiting USD virtually to talk about her path to becoming the Digital Associate Producer for NOVA. See the flier for the talk here: Ana Aceves SS!
URL:https://sites.sandiego.edu/mossman/event/human-side-of-science-speaker-series-ana-aceves/
END:VEVENT
BEGIN:VEVENT
DTSTART;TZID=America/Los_Angeles:20210301T121500
DTEND;TZID=America/Los_Angeles:20210301T131500
DTSTAMP:20260421T033632
CREATED:20210216T185003Z
LAST-MODIFIED:20210228T023019Z
UID:207-1614600900-1614604500@sites.sandiego.edu
SUMMARY:Coffee and Quantum
DESCRIPTION:Are you looking for research opportunities at USD in experimental physics? Come enjoy a coffee and talk quantum with Prof. Mossman! Opportunities include building and working with custom electronics\, vacuum systems\, lasers\, and a wide range of optical systems. \nDue to the ongoing COVID-19 pandemic\, the coffee hour will take place outside of La Paloma.
URL:https://sites.sandiego.edu/mossman/event/coffee-and-quantum/
LOCATION:La Paloma\, USD Campus
CATEGORIES:Group Meetings/Events
ORGANIZER;CN="M. Mossman":MAILTO:mmossman@sandiego.edu
END:VEVENT
BEGIN:VEVENT
DTSTART;TZID=America/Los_Angeles:20210208T121500
DTEND;TZID=America/Los_Angeles:20210208T131500
DTSTAMP:20260421T033632
CREATED:20210202T174546Z
LAST-MODIFIED:20210202T181306Z
UID:189-1612786500-1612790100@sites.sandiego.edu
SUMMARY:Coffee and Quantum
DESCRIPTION:Come chat with Prof. Mossman about quantum and research opportunities! She will be outside of La Paloma if the weather is or in the SCST Atrium if the weather is poor.
URL:https://sites.sandiego.edu/mossman/event/coffee-and-quantum-with-prof-mossman/
LOCATION:La Paloma\, USD Campus
END:VEVENT
BEGIN:VEVENT
DTSTART;TZID=America/Los_Angeles:20210202T121500
DTEND;TZID=America/Los_Angeles:20210202T131500
DTSTAMP:20260421T033632
CREATED:20210202T072158Z
LAST-MODIFIED:20210202T173642Z
UID:106-1612268100-1612271700@sites.sandiego.edu
SUMMARY:Human Side of Science Speaker Series: Willie Rockward\, PhD
DESCRIPTION:From Football to Physics: An unusual path\nPlease join us for our Spring Speaker Series: The Human Side of Science\, featuring a conversation with Willie Rockward\, PhD. Professor Rockward will share his ‘unusual path’ to his present position as chair of the Department of Physics & Engineering Physics at Morgan State University in Baltimore. \n 
URL:https://sites.sandiego.edu/mossman/event/human-side-of-science-speaker-series/
CATEGORIES:Colloquia
END:VEVENT
END:VCALENDAR